BEGIN:VCALENDAR
VERSION:2.0
PRODID:-//Nickolls &amp; Perks blog - ECPv5.1.4//NONSGML v1.0//EN
CALSCALE:GREGORIAN
METHOD:PUBLISH
X-WR-CALNAME:Nickolls &amp; Perks blog
X-ORIGINAL-URL:https://blog.nickollsandperks.co.uk
X-WR-CALDESC:Events for Nickolls &amp; Perks blog
BEGIN:VTIMEZONE
TZID:UTC
BEGIN:STANDARD
TZOFFSETFROM:+0000
TZOFFSETTO:+0000
TZNAME:UTC
DTSTART:20160101T000000
END:STANDARD
END:VTIMEZONE
BEGIN:VEVENT
DTSTART;TZID=UTC:20160304T190000
DTEND;TZID=UTC:20160304T210000
DTSTAMP:20260423T225246
CREATED:20151216T135805Z
LAST-MODIFIED:20151216T135805Z
UID:1522-1457118000-1457125200@blog.nickollsandperks.co.uk
SUMMARY:Bordeaux Tasting - Friday 4th March 2016
DESCRIPTION: \n\nThe classic French region produces some of the world’s greatest wines.\nWe’ve picked six of our favourite\, affordable  Bordeaux examples for you to enjoy: \n
URL:https://blog.nickollsandperks.co.uk/event/bordeaux-tasting-friday-4th-march-2016/
LOCATION:Nickolls & Perks Cellars\, 37 High Street\, Stourbridge\, West Midlands\, DY8 1TA\, United Kingdom
CATEGORIES:Tastings
ORGANIZER;CN="Nickolls%20and%20Perks":MAILTO:tim@nickollsandperks.co.uk
END:VEVENT
END:VCALENDAR